BEGIN:VCALENDAR
VERSION:2.0
PRODID:-//ChurchDev//Events//EN
CALSCALE:GREGORIAN
METHOD:PUBLISH
BEGIN:VEVENT
UID:3320-20260405@www.bethelattica.org
SUMMARY:Resurrection Sunday Son Rise Service
DTSTART:20260405T123000Z
DTEND:20260405T133000Z
DESCRIPTION:Everyone is welcome to join us as we celebrate our risen Lord and Savior Jesus Christ!\\nbreakfast will be served at 830AM. Service will follow at 930.\\n\\nhttps://www.bethelattica.org/events/resurrection-sunday-son-rise-service/
LOCATION:1780 E Bethel Rd\, Attica\, IN 47918
URL:https://www.bethelattica.org/events/resurrection-sunday-son-rise-service/
DTSTAMP:20260419T224940Z
END:VEVENT
END:VCALENDAR
