BEGIN:VCALENDAR
VERSION:2.0
PRODID:-//ChurchDev//Events//EN
CALSCALE:GREGORIAN
METHOD:PUBLISH
BEGIN:VEVENT
UID:3307-20260403@www.bethelattica.org
SUMMARY:Community Good Friday Service
DTSTART:20260403T230000Z
DTEND:20260404T000000Z
DESCRIPTION:https://www.bethelattica.org/events/community-good-friday-service-3/
LOCATION:1780 E Bethel Rd\, Attica\, IN 47918
URL:https://www.bethelattica.org/events/community-good-friday-service-3/
DTSTAMP:20260419T224940Z
END:VEVENT
END:VCALENDAR
