BEGIN:VCALENDAR
VERSION:2.0
PRODID:-//ChurchDev//Events//EN
CALSCALE:GREGORIAN
METHOD:PUBLISH
BEGIN:VEVENT
UID:3303-20240204@www.bethelattica.org
SUMMARY:Williamsport Nursing Home Ministry
DTSTART:20240204T180000Z
DTEND:20240204T190000Z
DESCRIPTION:You are invited to join us the first Sunday of every month at 1pm as we minister to the sweet residents and staff of Williamsport Nursing and Rehabilitation.\\n\\nhttps://www.bethelattica.org/events/williamsport-nursing-home-ministry/
LOCATION:1780 E Bethel Rd\, Attica\, IN 47918
URL:https://www.bethelattica.org/events/williamsport-nursing-home-ministry/
DTSTAMP:20260419T225112Z
END:VEVENT
END:VCALENDAR
