BEGIN:VCALENDAR
VERSION:2.0
PRODID:-//ChurchDev//Events//EN
CALSCALE:GREGORIAN
METHOD:PUBLISH
BEGIN:VEVENT
UID:3294-20240131@www.bethelattica.org
SUMMARY:Bible Study
DTSTART:20240201T000000Z
DTEND:20240201T010000Z
DESCRIPTION:https://www.bethelattica.org/events/end-of-times-bible-study/
LOCATION:1780 E Bethel Rd\, Attica\, IN 47918
URL:https://www.bethelattica.org/events/end-of-times-bible-study/
DTSTAMP:20260419T224951Z
END:VEVENT
END:VCALENDAR
