BEGIN:VCALENDAR
VERSION:2.0
PRODID:-//ChurchDev//Events//EN
CALSCALE:GREGORIAN
METHOD:PUBLISH
BEGIN:VEVENT
UID:3271-20230416@www.bethelattica.org
SUMMARY:Sunday service
DTSTART:20230416T133000Z
DTEND:20230416T143000Z
DESCRIPTION:https://www.bethelattica.org/events/sunday-service/
LOCATION:1780 E Bethel Rd\, Attica\, IN 47918
URL:https://www.bethelattica.org/events/sunday-service/
DTSTAMP:20260419T225001Z
END:VEVENT
END:VCALENDAR
