BEGIN:VCALENDAR
VERSION:2.0
PRODID:-//ChurchDev//Events//EN
CALSCALE:GREGORIAN
METHOD:PUBLISH
BEGIN:VEVENT
UID:3266-20230406@www.bethelattica.org
SUMMARY:Youth Group
DTSTART:20230406T223000Z
DTEND:20230406T233000Z
DESCRIPTION:https://www.bethelattica.org/events/youth-group/
LOCATION:1780 E Bethel Rd\, Attica\, IN 47918
URL:https://www.bethelattica.org/events/youth-group/
DTSTAMP:20260419T225002Z
END:VEVENT
END:VCALENDAR
